BEGIN:VCALENDAR
VERSION:2.0
PRODID:-//Plone.org//NONSGML plone.app.event//EN
X-WR-TIMEZONE:Brazil/East
BEGIN:VEVENT
SUMMARY:SESSÃO ESPECIAL EM HOMENAGEM AOS ESTUDANTES QUE ALCANÇARAM AS PR
 IMEIRAS COLOCAÇÕES NA MÉDIA DAS NOTAS NOS COLÉGIOS ESTADUAIS DA POLÍC
 IA MILITAR DE GOIÁS.
DTSTART;TZID=Brazil/East;VALUE=DATE-TIME:20251016T190000
DTEND;TZID=Brazil/East;VALUE=DATE-TIME:20251016T220000
DTSTAMP;VALUE=DATE-TIME:20260420T050753Z
UID:05ad84a0c01c43a081baa4574130137b@www.goiania.go.leg.br
CONTACT:VEREADOR MAJOR VITOR HUGO
CREATED;VALUE=DATE-TIME:20251001T133446Z
LAST-MODIFIED;VALUE=DATE-TIME:20251001T133457Z
LOCATION:PLENÁRIO TRAJANO GUIMARÃES
URL:https://www.goiania.go.leg.br/sala-de-imprensa/eventos/sessao-especial
 -em-homenagem-aos-estudantes-que-alcancaram-as-primeiras-colocacoes-na-med
 ia-das-notas-nos-colegios-estaduais-da-policia-militar-de-goias
END:VEVENT
BEGIN:VTIMEZONE
TZID:Brazil/East
X-LIC-LOCATION:Brazil/East
BEGIN:STANDARD
DTSTART;VALUE=DATE-TIME:20250215T230000
TZNAME:BRT
TZOFFSETFROM:-0200
TZOFFSETTO:-0300
END:STANDARD
END:VTIMEZONE
END:VCALENDAR
