BEGIN:VCALENDAR
VERSION:2.0
PRODID:-//Plone.org//NONSGML plone.app.event//EN
X-WR-TIMEZONE:Brazil/East
BEGIN:VEVENT
SUMMARY:SESSÃO ESPECIAL EM HOMENAGEM AOS ENTREGADORES DA CATEGORIA IFOOD\
 , QUE TRABALHARAM NA PANDEMIA (COVID) 20/22
DTSTART;TZID=Brazil/East;VALUE=DATE-TIME:20230823T190000
DTEND;TZID=Brazil/East;VALUE=DATE-TIME:20230823T210000
DTSTAMP;VALUE=DATE-TIME:20260419T150121Z
UID:8eeaf71cd2d243659c11e8b9b6bed1f9@www.goiania.go.leg.br
CONTACT:VEREADOR IGOR FRANCO
CREATED;VALUE=DATE-TIME:20230803T151059Z
LAST-MODIFIED;VALUE=DATE-TIME:20230803T151110Z
LOCATION:PLENÁRIO TRAJANO GUIMARÃES
URL:https://www.goiania.go.leg.br/sala-de-imprensa/eventos/sessao-especial
 -em-homenagem-aos-entregadores-da-categoria-ifood-que-trabalharam-na-pande
 mia-covid-20-22
END:VEVENT
BEGIN:VTIMEZONE
TZID:Brazil/East
X-LIC-LOCATION:Brazil/East
BEGIN:STANDARD
DTSTART;VALUE=DATE-TIME:20230225T230000
TZNAME:BRT
TZOFFSETFROM:-0200
TZOFFSETTO:-0300
END:STANDARD
END:VTIMEZONE
END:VCALENDAR
