BEGIN:VCALENDAR
VERSION:2.0
PRODID:-//Plone.org//NONSGML plone.app.event//EN
X-WR-TIMEZONE:Brazil/East
BEGIN:VEVENT
SUMMARY:SESSÃO ESPECIAL EM HOMENAGEM AO CHEF DE COZINHA
DTSTART;TZID=Brazil/East;VALUE=DATE-TIME:20240705T170000
DTEND;TZID=Brazil/East;VALUE=DATE-TIME:20240705T190000
DTSTAMP;VALUE=DATE-TIME:20260421T082559Z
UID:5cd61e1baad04b18bddbff1677267b13@www.goiania.go.leg.br
CONTACT:VEREADOR THIALU GUIOTTI
CREATED;VALUE=DATE-TIME:20240205T143109Z
LAST-MODIFIED;VALUE=DATE-TIME:20240605T205752Z
LOCATION:PLENÁRIO TRAJANO GUIMARÃES
URL:https://www.goiania.go.leg.br/sala-de-imprensa/eventos/sessao-especial
 -em-homenagem-aos-entomologos
END:VEVENT
BEGIN:VTIMEZONE
TZID:Brazil/East
X-LIC-LOCATION:Brazil/East
BEGIN:STANDARD
DTSTART;VALUE=DATE-TIME:20240217T230000
TZNAME:BRT
TZOFFSETFROM:-0200
TZOFFSETTO:-0300
END:STANDARD
END:VTIMEZONE
END:VCALENDAR
