BEGIN:VCALENDAR
VERSION:2.0
PRODID:-//Plone.org//NONSGML plone.app.event//EN
X-WR-TIMEZONE:Brazil/East
BEGIN:VEVENT
SUMMARY:SESSÃO ESPECIAL EM HOMENAGEM AOS ENGENHEIROS E ARQUITETOS.
DTSTART;TZID=Brazil/East;VALUE=DATE-TIME:20261022T190000
DTEND;TZID=Brazil/East;VALUE=DATE-TIME:20261022T220000
DTSTAMP;VALUE=DATE-TIME:20260420T063303Z
UID:85af780674e744ccb4bc39198e46af36@www.goiania.go.leg.br
CONTACT:VEREADOR GEVERSON ABEL E ANSELMO PEREIRA
CREATED;VALUE=DATE-TIME:20260210T155251Z
LAST-MODIFIED;VALUE=DATE-TIME:20260212T142122Z
LOCATION:PLENÁRIO TRAJANO GUIMARÃES
URL:https://www.goiania.go.leg.br/sala-de-imprensa/eventos/sessao-especial
 -em-homenagem-aos-engenheiros-e-arquitetos
END:VEVENT
BEGIN:VTIMEZONE
TZID:Brazil/East
X-LIC-LOCATION:Brazil/East
BEGIN:DAYLIGHT
DTSTART;VALUE=DATE-TIME:20261018T010000
TZNAME:BRST
TZOFFSETFROM:-0300
TZOFFSETTO:-0200
END:DAYLIGHT
END:VTIMEZONE
END:VCALENDAR
