BEGIN:VCALENDAR
VERSION:2.0
PRODID:-//Plone.org//NONSGML plone.app.event//EN
X-WR-TIMEZONE:Brazil/East
BEGIN:VEVENT
SUMMARY:SESSÃO ESPECIAL EM HOMENAGEM AOS EMPRESÁRIOS E COMERCIANTES DA R
 EGIÃO LESTE.
DTSTART;TZID=Brazil/East;VALUE=DATE-TIME:20191203T193000
DTEND;TZID=Brazil/East;VALUE=DATE-TIME:20191203T220000
DTSTAMP;VALUE=DATE-TIME:20260420T201845Z
UID:71e5adc2ae7744b6a8c8a4ffa297c85c@www.goiania.go.leg.br
CONTACT:VEREADOR TIÃOZINHO PORTO
CREATED;VALUE=DATE-TIME:20190213T123624Z
LAST-MODIFIED;VALUE=DATE-TIME:20191108T112642Z
LOCATION:PLENÁRIO TRAJANO GUIMARÃES
URL:https://www.goiania.go.leg.br/sala-de-imprensa/eventos/sessao-especial
 -em-homenagem-aos-empresarios-e-comerciantes-da-regiao-leste-1
END:VEVENT
BEGIN:VTIMEZONE
TZID:Brazil/East
X-LIC-LOCATION:Brazil/East
BEGIN:DAYLIGHT
DTSTART;VALUE=DATE-TIME:20191020T010000
TZNAME:BRST
TZOFFSETFROM:-0300
TZOFFSETTO:-0200
END:DAYLIGHT
END:VTIMEZONE
END:VCALENDAR
