BEGIN:VCALENDAR
VERSION:2.0
PRODID:-//Plone.org//NONSGML plone.app.event//EN
X-WR-TIMEZONE:Brazil/East
BEGIN:VEVENT
SUMMARY:SESSÃO ESPECIAL EM HOMENAGEM AOS DIRETORES\, PROFESSORES E SERVID
 ORES DO COLÉGIO ATLANTA.
DTSTART;TZID=Brazil/East;VALUE=DATE-TIME:20231206T190000
DTEND;TZID=Brazil/East;VALUE=DATE-TIME:20231206T210000
DTSTAMP;VALUE=DATE-TIME:20260420T040315Z
UID:43417175516249e582476ac6afd65002@www.goiania.go.leg.br
CONTACT:VEREADOR MARKIM GOYÁ
CREATED;VALUE=DATE-TIME:20231127T153726Z
LAST-MODIFIED;VALUE=DATE-TIME:20231127T153744Z
LOCATION:PLENÁRIO TRAJANO GUIMARÃES
URL:https://www.goiania.go.leg.br/sala-de-imprensa/eventos/sessao-especial
 -em-homenagem-aos-diretores-professores-e-servidores-do-colegio-atlanta
END:VEVENT
BEGIN:VTIMEZONE
TZID:Brazil/East
X-LIC-LOCATION:Brazil/East
BEGIN:DAYLIGHT
DTSTART;VALUE=DATE-TIME:20231015T010000
TZNAME:BRST
TZOFFSETFROM:-0300
TZOFFSETTO:-0200
END:DAYLIGHT
END:VTIMEZONE
END:VCALENDAR
