BEGIN:VCALENDAR
VERSION:2.0
PRODID:-//Plone.org//NONSGML plone.app.event//EN
X-WR-TIMEZONE:Brazil/East
BEGIN:VEVENT
SUMMARY:SESSÃO ESPECIAL EM HOMENAGEM AOS DIRETORES ESCOLARES.
DTSTART;TZID=Brazil/East;VALUE=DATE-TIME:20221111T090000
DTEND;TZID=Brazil/East;VALUE=DATE-TIME:20221111T100000
DTSTAMP;VALUE=DATE-TIME:20260419T104859Z
UID:0bc6ed03c6b54d3bb6d463123075cb9d@www.goiania.go.leg.br
CONTACT:VEREADORA LÉIA KLEBIA
CREATED;VALUE=DATE-TIME:20221020T200456Z
LAST-MODIFIED;VALUE=DATE-TIME:20221027T174053Z
LOCATION:PLENÁRIO TRAJANO GUIMARÃES
URL:https://www.goiania.go.leg.br/sala-de-imprensa/eventos/sessao-especial
 -em-homenagem-aos-diretores-escolares
END:VEVENT
BEGIN:VTIMEZONE
TZID:Brazil/East
X-LIC-LOCATION:Brazil/East
BEGIN:DAYLIGHT
DTSTART;VALUE=DATE-TIME:20221016T010000
TZNAME:BRST
TZOFFSETFROM:-0300
TZOFFSETTO:-0200
END:DAYLIGHT
END:VTIMEZONE
END:VCALENDAR
