BEGIN:VCALENDAR
VERSION:2.0
PRODID:-//Plone.org//NONSGML plone.app.event//EN
X-WR-TIMEZONE:Brazil/East
BEGIN:VEVENT
SUMMARY:SESSÃO ESPECIAL EM HOMENAGEM AOS PRODUTORES DE COMIDA E CONTEÚDO
  VEGANO E VEGETARIANO.
DTSTART;TZID=Brazil/East;VALUE=DATE-TIME:20240522T170000
DTEND;TZID=Brazil/East;VALUE=DATE-TIME:20240522T180000
DTSTAMP;VALUE=DATE-TIME:20260420T214013Z
UID:fc5ae75f5f584b75b3b33c277696d4f8@www.goiania.go.leg.br
CONTACT:VEREADOR RAPAHEL DA SAÚDE
CREATED;VALUE=DATE-TIME:20240417T125544Z
LAST-MODIFIED;VALUE=DATE-TIME:20240506T133241Z
LOCATION:PLENÁRIO TRAJANO GUIMARÃES
URL:https://www.goiania.go.leg.br/sala-de-imprensa/eventos/sessao-especial
 -em-homenagem-aos-destaques-em-inovacao-do-comercio-e-servico
END:VEVENT
BEGIN:VTIMEZONE
TZID:Brazil/East
X-LIC-LOCATION:Brazil/East
BEGIN:STANDARD
DTSTART;VALUE=DATE-TIME:20240217T230000
TZNAME:BRT
TZOFFSETFROM:-0200
TZOFFSETTO:-0300
END:STANDARD
END:VTIMEZONE
END:VCALENDAR
