BEGIN:VCALENDAR
VERSION:2.0
PRODID:-//Plone.org//NONSGML plone.app.event//EN
X-WR-TIMEZONE:Brazil/East
BEGIN:VEVENT
SUMMARY:SESSÃO ESPECIAL EM HOMENAGEM AOS DESPORTISTAS DO FUTEBOL AMADOR D
 O ESTADO DE GOIÁS.
DTSTART;TZID=Brazil/East;VALUE=DATE-TIME:20220923T180000
DTEND;TZID=Brazil/East;VALUE=DATE-TIME:20220923T220000
DTSTAMP;VALUE=DATE-TIME:20260420T225934Z
UID:dac578d4d25f4a80becd85b68af29928@www.goiania.go.leg.br
CONTACT:VEREADOR RAPAHEL DA SAÚDE
CREATED;VALUE=DATE-TIME:20220819T145458Z
LAST-MODIFIED;VALUE=DATE-TIME:20220819T145507Z
LOCATION:GINÁSIO DE ESPORTES DA VILA PEDROSO
URL:https://www.goiania.go.leg.br/sala-de-imprensa/eventos/sessao-especial
 -em-homenagem-aos-desportistas-do-futebol-amador-do-estado-de-goias
END:VEVENT
BEGIN:VTIMEZONE
TZID:Brazil/East
X-LIC-LOCATION:Brazil/East
BEGIN:STANDARD
DTSTART;VALUE=DATE-TIME:20220219T230000
TZNAME:BRT
TZOFFSETFROM:-0200
TZOFFSETTO:-0300
END:STANDARD
END:VTIMEZONE
END:VCALENDAR
