BEGIN:VCALENDAR
VERSION:2.0
PRODID:-//Plone.org//NONSGML plone.app.event//EN
X-WR-TIMEZONE:Brazil/East
BEGIN:VEVENT
SUMMARY:SESSÃO ESPECIAL EM HOMENAGEM AO ENCONTRO DE CASAIS DA PARÓQUIA S
 ANTO ANTÔNIO E CONCESSÃO DE TÍTULO DE CIDADANIA GOIANIENSE.
DTSTART;TZID=Brazil/East;VALUE=DATE-TIME:20260515T190000
DTEND;TZID=Brazil/East;VALUE=DATE-TIME:20260515T220000
DTSTAMP;VALUE=DATE-TIME:20260419T213947Z
UID:9993a8d6a67f4f48bc0de3bd78e96642@www.goiania.go.leg.br
CONTACT:VEREADORA ROSE CRUVINEL
CREATED;VALUE=DATE-TIME:20260305T213530Z
LAST-MODIFIED;VALUE=DATE-TIME:20260416T193214Z
LOCATION:PLENÁRIO TRAJANO GUIMARÃES
URL:https://www.goiania.go.leg.br/sala-de-imprensa/eventos/sessao-especial
 -em-homenagem-aos-defensores-publicos
END:VEVENT
BEGIN:VTIMEZONE
TZID:Brazil/East
X-LIC-LOCATION:Brazil/East
BEGIN:STANDARD
DTSTART;VALUE=DATE-TIME:20260221T230000
TZNAME:BRT
TZOFFSETFROM:-0200
TZOFFSETTO:-0300
END:STANDARD
END:VTIMEZONE
END:VCALENDAR
