BEGIN:VCALENDAR
VERSION:2.0
PRODID:-//Plone.org//NONSGML plone.app.event//EN
X-WR-TIMEZONE:Brazil/East
BEGIN:VEVENT
SUMMARY:SESSÃO ESPECIAL EM HOMENAGEM AOS DEFENSORES E ÀS DEFENSORAS DOS 
 DIREITOS HUMANOS.
DTSTART;TZID=Brazil/East;VALUE=DATE-TIME:20221216T090000
DTEND;TZID=Brazil/East;VALUE=DATE-TIME:20221216T120000
DTSTAMP;VALUE=DATE-TIME:20260420T053624Z
UID:9e3d62fce0584e16852b84185a4d04ef@www.goiania.go.leg.br
CONTACT:VEREADOR MAURO RUBEM
CREATED;VALUE=DATE-TIME:20220413T104920Z
LAST-MODIFIED;VALUE=DATE-TIME:20221129T120859Z
LOCATION:PLENÁRIO TRAJANO GUIMARÃES
URL:https://www.goiania.go.leg.br/sala-de-imprensa/eventos/sessao-especial
 -em-homenagem-aos-defensores-e-as-defensoras-dos-direitos-humanos
END:VEVENT
BEGIN:VTIMEZONE
TZID:Brazil/East
X-LIC-LOCATION:Brazil/East
BEGIN:DAYLIGHT
DTSTART;VALUE=DATE-TIME:20221016T010000
TZNAME:BRST
TZOFFSETFROM:-0300
TZOFFSETTO:-0200
END:DAYLIGHT
END:VTIMEZONE
END:VCALENDAR
