BEGIN:VCALENDAR
VERSION:2.0
PRODID:-//Plone.org//NONSGML plone.app.event//EN
X-WR-TIMEZONE:Brazil/East
BEGIN:VEVENT
SUMMARY:SESSÃO ESPECIAL EM HOMENAGEM AOS CORREDORES DE RUA.
DTSTART;TZID=Brazil/East;VALUE=DATE-TIME:20260511T190000
DTEND;TZID=Brazil/East;VALUE=DATE-TIME:20260511T220000
DTSTAMP;VALUE=DATE-TIME:20260419T120335Z
UID:90d271d839db47ffb7b4fab3a18171c0@www.goiania.go.leg.br
CONTACT:VEREADOR BESSA
CREATED;VALUE=DATE-TIME:20260326T125716Z
LAST-MODIFIED;VALUE=DATE-TIME:20260326T125739Z
LOCATION:PLENÁRIO TRAJANO GUIMARÃES
URL:https://www.goiania.go.leg.br/sala-de-imprensa/eventos/sessao-especial
 -em-homenagem-aos-corredores-de-rua-2
END:VEVENT
BEGIN:VTIMEZONE
TZID:Brazil/East
X-LIC-LOCATION:Brazil/East
BEGIN:STANDARD
DTSTART;VALUE=DATE-TIME:20260221T230000
TZNAME:BRT
TZOFFSETFROM:-0200
TZOFFSETTO:-0300
END:STANDARD
END:VTIMEZONE
END:VCALENDAR
