BEGIN:VCALENDAR
VERSION:2.0
PRODID:-//Plone.org//NONSGML plone.app.event//EN
X-WR-TIMEZONE:Brazil/East
BEGIN:VEVENT
SUMMARY:SESSÃO ESPECIAL EM HOMENAGEM AOS CORISTAS DO ESTADO DE GOIÁS.
DTSTART;TZID=Brazil/East;VALUE=DATE-TIME:20211214T170000
DTEND;TZID=Brazil/East;VALUE=DATE-TIME:20211214T180000
DTSTAMP;VALUE=DATE-TIME:20260420T093407Z
UID:7f349d40e5c547c9a6168e2abc4920a3@www.goiania.go.leg.br
CONTACT:VEREADORA GABRIELA RODART
CREATED;VALUE=DATE-TIME:20210923T195226Z
LAST-MODIFIED;VALUE=DATE-TIME:20211118T133331Z
LOCATION:Plenário Trajano Guimarães
URL:https://www.goiania.go.leg.br/sala-de-imprensa/eventos/sessao-especial
 -em-homenagem-aos-coristas-do-estado-de-goias
END:VEVENT
BEGIN:VTIMEZONE
TZID:Brazil/East
X-LIC-LOCATION:Brazil/East
BEGIN:DAYLIGHT
DTSTART;VALUE=DATE-TIME:20211017T010000
TZNAME:BRST
TZOFFSETFROM:-0300
TZOFFSETTO:-0200
END:DAYLIGHT
END:VTIMEZONE
END:VCALENDAR
