BEGIN:VCALENDAR
VERSION:2.0
PRODID:-//Plone.org//NONSGML plone.app.event//EN
X-WR-TIMEZONE:Brazil/East
BEGIN:VEVENT
SUMMARY:SESSÃO ESPECIAL EM HOMENAGEM AOS CONDUTORES DE VEÍCULOS DO SERVI
 ÇO PÚBLICO DE GOIÂNIA EM COMEMORAÇÃO AO DIA DOS MOTORISTAS.
DTSTART;TZID=Brazil/East;VALUE=DATE-TIME:20200616T193000
DTEND;TZID=Brazil/East;VALUE=DATE-TIME:20200616T220000
DTSTAMP;VALUE=DATE-TIME:20260420T115707Z
UID:c0bd8878bedb4f96b1b443b9b062e0fb@www.goiania.go.leg.br
CONTACT:VEREADOR KLEYBE MORAIS
CREATED;VALUE=DATE-TIME:20200207T125015Z
LAST-MODIFIED;VALUE=DATE-TIME:20200207T125024Z
LOCATION:PLENÁRIO TRAJANO GUIMARÃES
URL:https://www.goiania.go.leg.br/sala-de-imprensa/eventos/sessao-especial
 -em-homenagem-aos-condutores-de-veiculos-do-servico-publico-de-goiania-em-
 comemoracao-ao-dia-dos-motoristas
END:VEVENT
BEGIN:VTIMEZONE
TZID:Brazil/East
X-LIC-LOCATION:Brazil/East
BEGIN:STANDARD
DTSTART;VALUE=DATE-TIME:20200215T230000
TZNAME:BRT
TZOFFSETFROM:-0200
TZOFFSETTO:-0300
END:STANDARD
END:VTIMEZONE
END:VCALENDAR
