BEGIN:VCALENDAR
VERSION:2.0
PRODID:-//Plone.org//NONSGML plone.app.event//EN
X-WR-TIMEZONE:Brazil/East
BEGIN:VEVENT
SUMMARY:SESSÃO ESPECIAL EM HOMENAGEM AOS CLUBES DE MOTOCICLISMO E MOTOCIC
 LISTAS DE GOIÂNIA.
DTSTART;TZID=Brazil/East;VALUE=DATE-TIME:20250819T190000
DTEND;TZID=Brazil/East;VALUE=DATE-TIME:20250819T220000
DTSTAMP;VALUE=DATE-TIME:20260420T172949Z
UID:4cecb6c0cafc4ef5ab2c849315761fab@www.goiania.go.leg.br
CONTACT:VEREADOR CORONEL URZEDA
CREATED;VALUE=DATE-TIME:20250519T151533Z
LAST-MODIFIED;VALUE=DATE-TIME:20250701T150420Z
LOCATION:PLENÁRIO TRAJANO GUIMARÃES
URL:https://www.goiania.go.leg.br/sala-de-imprensa/eventos/sessao-especial
 -em-homenagem-aos-clubes-de-motociclismo-e-motociclistas-de-goiania
END:VEVENT
BEGIN:VTIMEZONE
TZID:Brazil/East
X-LIC-LOCATION:Brazil/East
BEGIN:STANDARD
DTSTART;VALUE=DATE-TIME:20250215T230000
TZNAME:BRT
TZOFFSETFROM:-0200
TZOFFSETTO:-0300
END:STANDARD
END:VTIMEZONE
END:VCALENDAR
