BEGIN:VCALENDAR
VERSION:2.0
PRODID:-//Plone.org//NONSGML plone.app.event//EN
X-WR-TIMEZONE:Brazil/East
BEGIN:VEVENT
SUMMARY:SESSÃO ESPECIAL EM HOMENAGEM AOS CIRURGIÕES PLÁSTICOS.
DTSTART;TZID=Brazil/East;VALUE=DATE-TIME:20261124T170000
DTEND;TZID=Brazil/East;VALUE=DATE-TIME:20261124T190000
DTSTAMP;VALUE=DATE-TIME:20260420T093308Z
UID:54f4199802774ce5be80610db72a23d4@www.goiania.go.leg.br
CONTACT:VEREADOR THIALU GUIOTTI
CREATED;VALUE=DATE-TIME:20260212T151617Z
LAST-MODIFIED;VALUE=DATE-TIME:20260212T151727Z
LOCATION:AUDITÓRIO JAIME CÂMARA
URL:https://www.goiania.go.leg.br/sala-de-imprensa/eventos/sessao-especial
 -em-homenagem-aos-cirurgioes-plasticos
END:VEVENT
BEGIN:VTIMEZONE
TZID:Brazil/East
X-LIC-LOCATION:Brazil/East
BEGIN:DAYLIGHT
DTSTART;VALUE=DATE-TIME:20261018T010000
TZNAME:BRST
TZOFFSETFROM:-0300
TZOFFSETTO:-0200
END:DAYLIGHT
END:VTIMEZONE
END:VCALENDAR
