BEGIN:VCALENDAR
VERSION:2.0
PRODID:-//Plone.org//NONSGML plone.app.event//EN
X-WR-TIMEZONE:Brazil/East
BEGIN:VEVENT
SUMMARY:SESSÃO ESPECIAL EM HOMENAGEM AOS CICLISTAS 
DTSTART;TZID=Brazil/East;VALUE=DATE-TIME:20190830T193000
DTEND;TZID=Brazil/East;VALUE=DATE-TIME:20190830T223000
DTSTAMP;VALUE=DATE-TIME:20260424T070015Z
UID:3c3501670a5c4665990260c5606a6d84@www.goiania.go.leg.br
CONTACT:VEREADOR ANDREY AZEREDO 
CREATED;VALUE=DATE-TIME:20190730T153407Z
LAST-MODIFIED;VALUE=DATE-TIME:20190730T153453Z
LOCATION:PLÉNARIO TRAJANO GUIMARÃES 
URL:https://www.goiania.go.leg.br/sala-de-imprensa/eventos/sessao-especial
 -em-homenagem-aos-ciclistas
END:VEVENT
BEGIN:VTIMEZONE
TZID:Brazil/East
X-LIC-LOCATION:Brazil/East
BEGIN:STANDARD
DTSTART;VALUE=DATE-TIME:20190216T230000
TZNAME:BRT
TZOFFSETFROM:-0200
TZOFFSETTO:-0300
END:STANDARD
END:VTIMEZONE
END:VCALENDAR
