BEGIN:VCALENDAR
VERSION:2.0
PRODID:-//Plone.org//NONSGML plone.app.event//EN
X-WR-TIMEZONE:Brazil/East
BEGIN:VEVENT
SUMMARY:SESSÃO ESPECIAL EM HOMENAGEM  AOS CENTROS ACADÊMICOS\, ATLÉTICA
 S E LIGAS ACADÊMICAS.
DTSTART;TZID=Brazil/East;VALUE=DATE-TIME:20250605T170000
DTEND;TZID=Brazil/East;VALUE=DATE-TIME:20250605T190000
DTSTAMP;VALUE=DATE-TIME:20260419T174437Z
UID:38f65850d366407a8be1dedf3f7680fc@www.goiania.go.leg.br
CONTACT:VEREADOR BESSA
CREATED;VALUE=DATE-TIME:20250212T134346Z
LAST-MODIFIED;VALUE=DATE-TIME:20250602T133648Z
LOCATION:PLENÁRIO TRAJANO GUIMARÃES
URL:https://www.goiania.go.leg.br/sala-de-imprensa/eventos/sessao-especial
 -em-homenagem-aos-centros-academicos-atleticas-e-ligas-academicas
END:VEVENT
BEGIN:VTIMEZONE
TZID:Brazil/East
X-LIC-LOCATION:Brazil/East
BEGIN:STANDARD
DTSTART;VALUE=DATE-TIME:20250215T230000
TZNAME:BRT
TZOFFSETFROM:-0200
TZOFFSETTO:-0300
END:STANDARD
END:VTIMEZONE
END:VCALENDAR
