BEGIN:VCALENDAR
VERSION:2.0
PRODID:-//Plone.org//NONSGML plone.app.event//EN
X-WR-TIMEZONE:Brazil/East
BEGIN:VEVENT
SUMMARY:SESSÃO ESPECIAL EM HOMENAGEM AOS BARES E RESTAURANTES.
DTSTART;TZID=Brazil/East;VALUE=DATE-TIME:20220504T170000
DTEND;TZID=Brazil/East;VALUE=DATE-TIME:20220504T190000
DTSTAMP;VALUE=DATE-TIME:20260419T094043Z
UID:da70223ad55e43e09029fabbd16386e6@www.goiania.go.leg.br
CONTACT:VEREADOR LEANDRO SENA
CREATED;VALUE=DATE-TIME:20220114T132110Z
LAST-MODIFIED;VALUE=DATE-TIME:20220114T132121Z
LOCATION:PLENÁRIO TRAJANO GUIMARÃES
URL:https://www.goiania.go.leg.br/sala-de-imprensa/eventos/sessao-especial
 -em-homenagem-aos-bares-e-restaurantes
END:VEVENT
BEGIN:VTIMEZONE
TZID:Brazil/East
X-LIC-LOCATION:Brazil/East
BEGIN:STANDARD
DTSTART;VALUE=DATE-TIME:20220219T230000
TZNAME:BRT
TZOFFSETFROM:-0200
TZOFFSETTO:-0300
END:STANDARD
END:VTIMEZONE
END:VCALENDAR
