BEGIN:VCALENDAR
VERSION:2.0
PRODID:-//Plone.org//NONSGML plone.app.event//EN
X-WR-TIMEZONE:Brazil/East
BEGIN:VEVENT
SUMMARY:SESSÃO ESPECIAL EM HOMENAGEM AOS AUDITORES DE TRIBUTOS.
DTSTART;TZID=Brazil/East;VALUE=DATE-TIME:20220921T090000
DTEND;TZID=Brazil/East;VALUE=DATE-TIME:20220921T120000
DTSTAMP;VALUE=DATE-TIME:20260419T145916Z
UID:fba66267e27f4d74b0b04ec9a541804a@www.goiania.go.leg.br
CONTACT:VEREADOR ANSELMO PEREIRA
CREATED;VALUE=DATE-TIME:20220209T125400Z
LAST-MODIFIED;VALUE=DATE-TIME:20220803T115507Z
LOCATION:FORA DA CÂMARA
URL:https://www.goiania.go.leg.br/sala-de-imprensa/eventos/sessao-especial
 -em-homenagem-aos-auditores-de-tributos-3
END:VEVENT
BEGIN:VTIMEZONE
TZID:Brazil/East
X-LIC-LOCATION:Brazil/East
BEGIN:STANDARD
DTSTART;VALUE=DATE-TIME:20220219T230000
TZNAME:BRT
TZOFFSETFROM:-0200
TZOFFSETTO:-0300
END:STANDARD
END:VTIMEZONE
END:VCALENDAR
