BEGIN:VCALENDAR
VERSION:2.0
PRODID:-//Plone.org//NONSGML plone.app.event//EN
X-WR-TIMEZONE:Brazil/East
BEGIN:VEVENT
SUMMARY:SESSÃO ESPECIAL EM HOMENAGEM AOS AUDITORES DE CONTROLE EXTERNO DO
  TRIBUNAL DE CONTAS DOS MUNICÍPIOS DO ESTADO DE GOIÁS.
DTSTART;TZID=Brazil/East;VALUE=DATE-TIME:20260427T190000
DTEND;TZID=Brazil/East;VALUE=DATE-TIME:20260427T220000
DTSTAMP;VALUE=DATE-TIME:20260421T000743Z
UID:662caf50f4a641de961dd6d78529ed2f@www.goiania.go.leg.br
CONTACT:VEREADOR MAJOR VITOR HUGO
CREATED;VALUE=DATE-TIME:20260304T125340Z
LAST-MODIFIED;VALUE=DATE-TIME:20260304T125408Z
LOCATION:PLENÁRIO TRAJANO GUIMARÃES
URL:https://www.goiania.go.leg.br/sala-de-imprensa/eventos/sessao-especial
 -em-homenagem-aos-auditores-de-controle-externo-do-tribunal-de-contas-dos-
 municipios-do-estado-de-goias
END:VEVENT
BEGIN:VTIMEZONE
TZID:Brazil/East
X-LIC-LOCATION:Brazil/East
BEGIN:STANDARD
DTSTART;VALUE=DATE-TIME:20260221T230000
TZNAME:BRT
TZOFFSETFROM:-0200
TZOFFSETTO:-0300
END:STANDARD
END:VTIMEZONE
END:VCALENDAR
