BEGIN:VCALENDAR
VERSION:2.0
PRODID:-//Plone.org//NONSGML plone.app.event//EN
X-WR-TIMEZONE:Brazil/East
BEGIN:VEVENT
SUMMARY:SESSÃO ESPECIAL EM HOMENAGEM AOS ATLETAS JIU-JITSU.
DTSTART;TZID=Brazil/East;VALUE=DATE-TIME:20260914T170000
DTEND;TZID=Brazil/East;VALUE=DATE-TIME:20260914T190000
DTSTAMP;VALUE=DATE-TIME:20260419T120643Z
UID:45bd5dd3c4ff4613bff8e4551429260e@www.goiania.go.leg.br
CONTACT:VEREADOR CABO SENNA
CREATED;VALUE=DATE-TIME:20260203T115953Z
LAST-MODIFIED;VALUE=DATE-TIME:20260203T120008Z
LOCATION:AUDITÓRIO JAIME CÂMARA
URL:https://www.goiania.go.leg.br/sala-de-imprensa/eventos/sessao-especial
 -em-homenagem-aos-atletas-jiu-jitsu
END:VEVENT
BEGIN:VTIMEZONE
TZID:Brazil/East
X-LIC-LOCATION:Brazil/East
BEGIN:STANDARD
DTSTART;VALUE=DATE-TIME:20260221T230000
TZNAME:BRT
TZOFFSETFROM:-0200
TZOFFSETTO:-0300
END:STANDARD
END:VTIMEZONE
END:VCALENDAR
