BEGIN:VCALENDAR
VERSION:2.0
PRODID:-//Plone.org//NONSGML plone.app.event//EN
X-WR-TIMEZONE:Brazil/East
BEGIN:VEVENT
SUMMARY:SESSÃO ESPECIAL EM HOMENAGEM AOS ATLETAS DE CROSSFIT.
DTSTART;TZID=Brazil/East;VALUE=DATE-TIME:20261005T170000
DTEND;TZID=Brazil/East;VALUE=DATE-TIME:20261005T190000
DTSTAMP;VALUE=DATE-TIME:20260422T020236Z
UID:5dab2093ff754e73b2b1abcbd5e0c21e@www.goiania.go.leg.br
CONTACT:VEREADOR THIALU GUIOTTI
CREATED;VALUE=DATE-TIME:20260210T125838Z
LAST-MODIFIED;VALUE=DATE-TIME:20260326T144554Z
LOCATION:AUDITÓRIO JAIME CÂMARA
URL:https://www.goiania.go.leg.br/sala-de-imprensa/eventos/sessao-especial
 -em-homenagem-aos-atletas-de-crossfit
END:VEVENT
BEGIN:VTIMEZONE
TZID:Brazil/East
X-LIC-LOCATION:Brazil/East
BEGIN:STANDARD
DTSTART;VALUE=DATE-TIME:20260221T230000
TZNAME:BRT
TZOFFSETFROM:-0200
TZOFFSETTO:-0300
END:STANDARD
END:VTIMEZONE
END:VCALENDAR
