BEGIN:VCALENDAR
VERSION:2.0
PRODID:-//Plone.org//NONSGML plone.app.event//EN
X-WR-TIMEZONE:Brazil/East
BEGIN:VEVENT
SUMMARY:SESSÃO ESPECIAL EM HOMENAGEM AOS ATIRADORES ESPORTIVOS DO ESTADO 
 DE GOIÁS.
DTSTART;TZID=Brazil/East;VALUE=DATE-TIME:20180502T193000
DTEND;TZID=Brazil/East;VALUE=DATE-TIME:20180502T220000
DTSTAMP;VALUE=DATE-TIME:20260421T224844Z
UID:195e03a082ae4a5c92b33b370b0a0313@www.goiania.go.leg.br
CONTACT:VEREADOR FELISBERTO TAVARES
CREATED;VALUE=DATE-TIME:20180313T152450Z
LAST-MODIFIED;VALUE=DATE-TIME:20180313T152459Z
LOCATION:PLENÁRIO TRAJANO GUIMARÃES
URL:https://www.goiania.go.leg.br/sala-de-imprensa/eventos/sessao-especial
 -em-homenagem-aos-atiradores-esportivos-do-estado-de-goias
END:VEVENT
BEGIN:VTIMEZONE
TZID:Brazil/East
X-LIC-LOCATION:Brazil/East
BEGIN:STANDARD
DTSTART;VALUE=DATE-TIME:20180217T230000
TZNAME:BRT
TZOFFSETFROM:-0200
TZOFFSETTO:-0300
END:STANDARD
END:VTIMEZONE
END:VCALENDAR
