BEGIN:VCALENDAR
VERSION:2.0
PRODID:-//Plone.org//NONSGML plone.app.event//EN
X-WR-TIMEZONE:Brazil/East
BEGIN:VEVENT
SUMMARY:SESSÃO ESPECIAL EM HOMENAGEM AOS AMIGOS DA CULTURA.
DTSTART;TZID=Brazil/East;VALUE=DATE-TIME:20180227T193000
DTEND;TZID=Brazil/East;VALUE=DATE-TIME:20180227T220000
DTSTAMP;VALUE=DATE-TIME:20260421T140500Z
UID:5d4ce90ff85a4e4e88fdc6c9011cc298@www.goiania.go.leg.br
CONTACT:VEREADORA DRA. CRISTINA LOPES AFONSO
CREATED;VALUE=DATE-TIME:20180129T103709Z
LAST-MODIFIED;VALUE=DATE-TIME:20180129T103723Z
LOCATION:PLENÁRIO TRAJANO GUIMARÃES
URL:https://www.goiania.go.leg.br/sala-de-imprensa/eventos/sessao-especial
 -em-homenagem-aos-amigos-da-cultura
END:VEVENT
BEGIN:VTIMEZONE
TZID:Brazil/East
X-LIC-LOCATION:Brazil/East
BEGIN:STANDARD
DTSTART;VALUE=DATE-TIME:20180217T230000
TZNAME:BRT
TZOFFSETFROM:-0200
TZOFFSETTO:-0300
END:STANDARD
END:VTIMEZONE
END:VCALENDAR
