BEGIN:VCALENDAR
VERSION:2.0
PRODID:-//Plone.org//NONSGML plone.app.event//EN
X-WR-TIMEZONE:Brazil/East
BEGIN:VEVENT
SUMMARY:SESSÃO ESPECIAL EM HOMENAGEM AOS ADVOGADOS POPULARES.
DTSTART;TZID=Brazil/East;VALUE=DATE-TIME:20231208T090000
DTEND;TZID=Brazil/East;VALUE=DATE-TIME:20231208T120000
DTSTAMP;VALUE=DATE-TIME:20260421T054104Z
UID:038dce84dfc142738871851cdb4fa2ae@www.goiania.go.leg.br
CONTACT:VEREADOR ISAÍAS RIBEIRO
CREATED;VALUE=DATE-TIME:20230207T120138Z
LAST-MODIFIED;VALUE=DATE-TIME:20230207T120156Z
LOCATION:PLENÁRIO TRAJANO GUIMARÃES
URL:https://www.goiania.go.leg.br/sala-de-imprensa/eventos/sessao-especial
 -em-homenagem-aos-advogados-populares
END:VEVENT
BEGIN:VTIMEZONE
TZID:Brazil/East
X-LIC-LOCATION:Brazil/East
BEGIN:DAYLIGHT
DTSTART;VALUE=DATE-TIME:20231015T010000
TZNAME:BRST
TZOFFSETFROM:-0300
TZOFFSETTO:-0200
END:DAYLIGHT
END:VTIMEZONE
END:VCALENDAR
