BEGIN:VCALENDAR
VERSION:2.0
PRODID:-//Plone.org//NONSGML plone.app.event//EN
X-WR-TIMEZONE:Brazil/East
BEGIN:VEVENT
SUMMARY:SESSÃO ESPECIAL EM HOMENAGEM AOS ADVENTISTAS DO SÉTIMO DIA.
DTSTART;TZID=Brazil/East;VALUE=DATE-TIME:20221004T170000
DTEND;TZID=Brazil/East;VALUE=DATE-TIME:20221004T190000
DTSTAMP;VALUE=DATE-TIME:20260420T093402Z
UID:48fa41cc3f274a2285ba92e51d06e79e@www.goiania.go.leg.br
CONTACT:VEREADOR CABO SENNA
CREATED;VALUE=DATE-TIME:20220223T125133Z
LAST-MODIFIED;VALUE=DATE-TIME:20220223T125141Z
LOCATION:PLENÁRIO TRAJANO GUIMARÃES
URL:https://www.goiania.go.leg.br/sala-de-imprensa/eventos/sessao-especial
 -em-homenagem-aos-adventistas-do-setimo-dia
END:VEVENT
BEGIN:VTIMEZONE
TZID:Brazil/East
X-LIC-LOCATION:Brazil/East
BEGIN:STANDARD
DTSTART;VALUE=DATE-TIME:20220219T230000
TZNAME:BRT
TZOFFSETFROM:-0200
TZOFFSETTO:-0300
END:STANDARD
END:VTIMEZONE
END:VCALENDAR
