BEGIN:VCALENDAR
VERSION:2.0
PRODID:-//Plone.org//NONSGML plone.app.event//EN
X-WR-TIMEZONE:Brazil/East
BEGIN:VEVENT
SUMMARY:SESSÃO ESPECIAL EM HOMENAGEM AOS 80 ANOS DA IGREJA ASSEMBLEIA DE 
 DEUS MINISTÉRIO ANÁPOLIS E ENTREGA DA MEDALHA PEDRO LUDOVICO TEIXEIRA AO
  PASTOR JOSÉ CLARIMUNDO CÉSAR.
DTSTART;TZID=Brazil/East;VALUE=DATE-TIME:20200302T193000
DTEND;TZID=Brazil/East;VALUE=DATE-TIME:20200302T220000
DTSTAMP;VALUE=DATE-TIME:20260420T160409Z
UID:d2392c3d29374e99a4be0f58a544b69b@www.goiania.go.leg.br
CONTACT:VEREADOR PAULINHO GRAUS
CREATED;VALUE=DATE-TIME:20200203T111611Z
LAST-MODIFIED;VALUE=DATE-TIME:20200203T111637Z
LOCATION:PLENÁRIO TRAJANO GUIMARÃES
URL:https://www.goiania.go.leg.br/sala-de-imprensa/eventos/sessao-especial
 -em-homenagem-aos-80-anos-da-igreja-assembleia-de-deus-ministerio-anapolis
 -e-entrega-da-medalha-pedro-ludovico-teixeira-ao-pastor-jose-clarimundo-ce
 sar
END:VEVENT
BEGIN:VTIMEZONE
TZID:Brazil/East
X-LIC-LOCATION:Brazil/East
BEGIN:STANDARD
DTSTART;VALUE=DATE-TIME:20200215T230000
TZNAME:BRT
TZOFFSETFROM:-0200
TZOFFSETTO:-0300
END:STANDARD
END:VTIMEZONE
END:VCALENDAR
