BEGIN:VCALENDAR
VERSION:2.0
PRODID:-//Plone.org//NONSGML plone.app.event//EN
X-WR-TIMEZONE:Brazil/East
BEGIN:VEVENT
SUMMARY:SESSÃO ESPECIAL EM  HOMENAGEM AOS 67 ANOS DO SETOR JARDIM GUANABA
 RA.
DTSTART;TZID=Brazil/East;VALUE=DATE-TIME:20200212T193000
DTEND;TZID=Brazil/East;VALUE=DATE-TIME:20200212T220000
DTSTAMP;VALUE=DATE-TIME:20260421T112240Z
UID:c7948f1eb9764945975ba40ec0210299@www.goiania.go.leg.br
CONTACT:VEREADOR SARGENTO NOVANDIR
CREATED;VALUE=DATE-TIME:20200205T102344Z
LAST-MODIFIED;VALUE=DATE-TIME:20200205T102358Z
LOCATION:PLENÁRIO TRAJANO GUIMARÃES
URL:https://www.goiania.go.leg.br/sala-de-imprensa/eventos/sessao-especial
 -em-homenagem-aos-67-anos-do-setor-jardim-guanabara
END:VEVENT
BEGIN:VTIMEZONE
TZID:Brazil/East
X-LIC-LOCATION:Brazil/East
BEGIN:DAYLIGHT
DTSTART;VALUE=DATE-TIME:20191020T010000
TZNAME:BRST
TZOFFSETFROM:-0300
TZOFFSETTO:-0200
END:DAYLIGHT
END:VTIMEZONE
END:VCALENDAR
