BEGIN:VCALENDAR
VERSION:2.0
PRODID:-//Plone.org//NONSGML plone.app.event//EN
X-WR-TIMEZONE:Brazil/East
BEGIN:VEVENT
SUMMARY:SESSÃO ESPECIAL EM HOMENAGEM AOS 58 ANOS DA ASSEMBLEIA DE DEUS "M
 INISTÉRIO VILA NOVA".
DTSTART;TZID=Brazil/East;VALUE=DATE-TIME:20190617T093000
DTEND;TZID=Brazil/East;VALUE=DATE-TIME:20190617T120000
DTSTAMP;VALUE=DATE-TIME:20260420T214152Z
UID:fec0edfb21e14d27a549990e2face1ec@www.goiania.go.leg.br
CONTACT:VEREADOR MILTON MERCEZ
CREATED;VALUE=DATE-TIME:20190417T122551Z
LAST-MODIFIED;VALUE=DATE-TIME:20190509T135637Z
LOCATION:PLENÁRIO TRAJANO GUIMARÃES
URL:https://www.goiania.go.leg.br/sala-de-imprensa/eventos/sessao-especial
 -em-homenagem-aos-58-anos-da-assembleia-de-deus-ministerio-vila-nova
END:VEVENT
BEGIN:VTIMEZONE
TZID:Brazil/East
X-LIC-LOCATION:Brazil/East
BEGIN:STANDARD
DTSTART;VALUE=DATE-TIME:20190216T230000
TZNAME:BRT
TZOFFSETFROM:-0200
TZOFFSETTO:-0300
END:STANDARD
END:VTIMEZONE
END:VCALENDAR
