BEGIN:VCALENDAR
VERSION:2.0
PRODID:-//Plone.org//NONSGML plone.app.event//EN
X-WR-TIMEZONE:Brazil/East
BEGIN:VEVENT
SUMMARY:SESSÃO ESPECIAL EM HOMENAGEM AOS 57 ANOS DA PROFISSÃO DE ADMINIS
 TRADOR.
DTSTART;TZID=Brazil/East;VALUE=DATE-TIME:20220908T190000
DTEND;TZID=Brazil/East;VALUE=DATE-TIME:20220908T210000
DTSTAMP;VALUE=DATE-TIME:20260420T143906Z
UID:2236566213cd4db8a94ad1000a8ec985@www.goiania.go.leg.br
CONTACT:VEREADOR ANSELMO PEREIRA
CREATED;VALUE=DATE-TIME:20220209T125213Z
LAST-MODIFIED;VALUE=DATE-TIME:20220906T121338Z
LOCATION:PLENÁRIO TRAJANO GUIMARÃES
URL:https://www.goiania.go.leg.br/sala-de-imprensa/eventos/sessao-especial
 -em-homenagem-aos-57-anos-da-profissao-de-administrador
END:VEVENT
BEGIN:VTIMEZONE
TZID:Brazil/East
X-LIC-LOCATION:Brazil/East
BEGIN:STANDARD
DTSTART;VALUE=DATE-TIME:20220219T230000
TZNAME:BRT
TZOFFSETFROM:-0200
TZOFFSETTO:-0300
END:STANDARD
END:VTIMEZONE
END:VCALENDAR
