BEGIN:VCALENDAR
VERSION:2.0
PRODID:-//Plone.org//NONSGML plone.app.event//EN
X-WR-TIMEZONE:Brazil/East
BEGIN:VEVENT
SUMMARY:SESSÃO SOLENE DE ENTREGA DE TÍTULO DE CIDADÃO GOIANIENSE AO SEN
 HOR PRESIDENTE  UBIRATAN DA SILVA LOPES.
DTSTART;TZID=Brazil/East;VALUE=DATE-TIME:20221117T190000
DTEND;TZID=Brazil/East;VALUE=DATE-TIME:20221117T220000
DTSTAMP;VALUE=DATE-TIME:20260421T045549Z
UID:dcf45145ca1c46bd9040e2a7c023b065@www.goiania.go.leg.br
CONTACT:VEREADOR ANSELMO PEREIRA
CREATED;VALUE=DATE-TIME:20221017T152158Z
LAST-MODIFIED;VALUE=DATE-TIME:20221117T112632Z
LOCATION:NO AUDITÓRIO DO SEBRAE
URL:https://www.goiania.go.leg.br/sala-de-imprensa/eventos/sessao-especial
 -em-homenagem-aos-50-anos-do-sebrae
END:VEVENT
BEGIN:VTIMEZONE
TZID:Brazil/East
X-LIC-LOCATION:Brazil/East
BEGIN:DAYLIGHT
DTSTART;VALUE=DATE-TIME:20221016T010000
TZNAME:BRST
TZOFFSETFROM:-0300
TZOFFSETTO:-0200
END:DAYLIGHT
END:VTIMEZONE
END:VCALENDAR
