BEGIN:VCALENDAR
VERSION:2.0
PRODID:-//Plone.org//NONSGML plone.app.event//EN
X-WR-TIMEZONE:Brazil/East
BEGIN:VEVENT
SUMMARY:SESSÃO ESPECIAL EM HOMENAGEM AOS 46 ANOS DO SERVIÇO DE APOIO ÀS
  MICRO E PEQUENAS EMPRESAS (SEBRAE) EM GOIÂNIA.
DTSTART;TZID=Brazil/East;VALUE=DATE-TIME:20181212T193000
DTEND;TZID=Brazil/East;VALUE=DATE-TIME:20181212T220000
DTSTAMP;VALUE=DATE-TIME:20260420T172939Z
UID:7cfb5fb9ab394ed0b1f97313d4c954d2@www.goiania.go.leg.br
CONTACT:VEREADOR ANDREY AZEREDO
CREATED;VALUE=DATE-TIME:20181123T122227Z
LAST-MODIFIED;VALUE=DATE-TIME:20181123T122232Z
LOCATION:PLENÁRIO TRAJANO GUIMARÃES
URL:https://www.goiania.go.leg.br/sala-de-imprensa/eventos/sessao-especial
 -em-homenagem-aos-46-anos-do-servico-de-apoio-as-micro-e-pequenas-empresas
 -sebrae-em-goiania
END:VEVENT
BEGIN:VTIMEZONE
TZID:Brazil/East
X-LIC-LOCATION:Brazil/East
BEGIN:DAYLIGHT
DTSTART;VALUE=DATE-TIME:20181021T010000
TZNAME:BRST
TZOFFSETFROM:-0300
TZOFFSETTO:-0200
END:DAYLIGHT
END:VTIMEZONE
END:VCALENDAR
