BEGIN:VCALENDAR
VERSION:2.0
PRODID:-//Plone.org//NONSGML plone.app.event//EN
X-WR-TIMEZONE:Brazil/East
BEGIN:VEVENT
SUMMARY:SESSÃO ESPECIAL EM HOMENAGEM AOS 39 ANOS DA CRECHE SANTA RITA DE 
 CÁSSIA.
DTSTART;TZID=Brazil/East;VALUE=DATE-TIME:20240916T190000
DTEND;TZID=Brazil/East;VALUE=DATE-TIME:20240916T220000
DTSTAMP;VALUE=DATE-TIME:20260421T070625Z
UID:c6b8c370b7c94174bc7fabeb22378eb2@www.goiania.go.leg.br
CONTACT:VEREADOR ANSELMO PEREIRA
CREATED;VALUE=DATE-TIME:20240821T125935Z
LAST-MODIFIED;VALUE=DATE-TIME:20240821T130002Z
LOCATION:PLENÁRIO TRAJANO GUIMARÃES
URL:https://www.goiania.go.leg.br/sala-de-imprensa/eventos/sessao-especial
 -em-homenagem-aos-39-anos-da-creche-santa-rita-de-cassia
END:VEVENT
BEGIN:VTIMEZONE
TZID:Brazil/East
X-LIC-LOCATION:Brazil/East
BEGIN:STANDARD
DTSTART;VALUE=DATE-TIME:20240217T230000
TZNAME:BRT
TZOFFSETFROM:-0200
TZOFFSETTO:-0300
END:STANDARD
END:VTIMEZONE
END:VCALENDAR
