BEGIN:VCALENDAR
VERSION:2.0
PRODID:-//Plone.org//NONSGML plone.app.event//EN
X-WR-TIMEZONE:Brazil/East
BEGIN:VEVENT
SUMMARY:SESSÃO ESPECIAL EM HOMENAGEM AOS 30 ANOS DO CÓDIGO DE DEFESA DO 
 CONSUMIDOR.
DTSTART;TZID=Brazil/East;VALUE=DATE-TIME:20200916T160000
DTEND;TZID=Brazil/East;VALUE=DATE-TIME:20200916T210000
DTSTAMP;VALUE=DATE-TIME:20260420T103806Z
UID:c04f51580ab349c2a26c4cf122d5442e@www.goiania.go.leg.br
CONTACT:VEREADOR ANSELMO PEREIRA
CREATED;VALUE=DATE-TIME:20200826T202059Z
LAST-MODIFIED;VALUE=DATE-TIME:20200826T202110Z
LOCATION:PLENÁRIO TRAJANO GUIMARÃES
URL:https://www.goiania.go.leg.br/sala-de-imprensa/eventos/sessao-especial
 -em-homenagem-aos-30-anos-do-codigo-de-defesa-do-consumidor
END:VEVENT
BEGIN:VTIMEZONE
TZID:Brazil/East
X-LIC-LOCATION:Brazil/East
BEGIN:STANDARD
DTSTART;VALUE=DATE-TIME:20200215T230000
TZNAME:BRT
TZOFFSETFROM:-0200
TZOFFSETTO:-0300
END:STANDARD
END:VTIMEZONE
END:VCALENDAR
