BEGIN:VCALENDAR
VERSION:2.0
PRODID:-//Plone.org//NONSGML plone.app.event//EN
X-WR-TIMEZONE:Brazil/East
BEGIN:VEVENT
SUMMARY:SESSÃO ESPECIAL EM HOMENAGEM AOS 22 ANOS DA IGREJA BATISTA RENASC
 ER
DTSTART;TZID=Brazil/East;VALUE=DATE-TIME:20210526T170000
DTEND;TZID=Brazil/East;VALUE=DATE-TIME:20210526T180000
DTSTAMP;VALUE=DATE-TIME:20260421T125122Z
UID:252a2a502ac248c6b8e670324b33b1e7@www.goiania.go.leg.br
CONTACT:VEREADOR RONILSON REIS
CREATED;VALUE=DATE-TIME:20210426T152407Z
LAST-MODIFIED;VALUE=DATE-TIME:20210426T152417Z
LOCATION:PLENÁRIO TRAJANO GUIMARÃES
URL:https://www.goiania.go.leg.br/sala-de-imprensa/eventos/sessao-especial
 -em-homenagem-aos-22-anos-da-igreja-batista-renascer
END:VEVENT
BEGIN:VTIMEZONE
TZID:Brazil/East
X-LIC-LOCATION:Brazil/East
BEGIN:STANDARD
DTSTART;VALUE=DATE-TIME:20210220T230000
TZNAME:BRT
TZOFFSETFROM:-0200
TZOFFSETTO:-0300
END:STANDARD
END:VTIMEZONE
END:VCALENDAR
