BEGIN:VCALENDAR
VERSION:2.0
PRODID:-//Plone.org//NONSGML plone.app.event//EN
X-WR-TIMEZONE:Brazil/East
BEGIN:VEVENT
SUMMARY:SESSÃO ESPECIAL EM HOMENAGEM AOS 210 ANOS DO ANIVERSÁRIO DE CAMP
 INAS.
DTSTART;TZID=Brazil/East;VALUE=DATE-TIME:20200709T090000
DTEND;TZID=Brazil/East;VALUE=DATE-TIME:20200709T120000
DTSTAMP;VALUE=DATE-TIME:20260421T125122Z
UID:a3d03fbd3dd94405928c0a74be597842@www.goiania.go.leg.br
CONTACT:VEREADOR ANSELMO PEREIRA
CREATED;VALUE=DATE-TIME:20200108T134100Z
LAST-MODIFIED;VALUE=DATE-TIME:20200108T134153Z
LOCATION:AUDITÓRIO COLÉGIO SANTA CLARA
URL:https://www.goiania.go.leg.br/sala-de-imprensa/eventos/sessao-especial
 -em-homenagem-aos-210-anos-do-aniversario-de-campinas
END:VEVENT
BEGIN:VTIMEZONE
TZID:Brazil/East
X-LIC-LOCATION:Brazil/East
BEGIN:STANDARD
DTSTART;VALUE=DATE-TIME:20200215T230000
TZNAME:BRT
TZOFFSETFROM:-0200
TZOFFSETTO:-0300
END:STANDARD
END:VTIMEZONE
END:VCALENDAR
