BEGIN:VCALENDAR
VERSION:2.0
PRODID:-//Plone.org//NONSGML plone.app.event//EN
X-WR-TIMEZONE:Brazil/East
BEGIN:VEVENT
SUMMARY:SESSÃO ESPECIAL EM HOMENAGEM AOS 20 ANOS DA ORQUESTRA SINFÔNICA 
 DE JOVENS DE GOIÁS E AOS MÚSICOS DE ORQUESTRA.
DTSTART;TZID=Brazil/East;VALUE=DATE-TIME:20220622T170000
DTEND;TZID=Brazil/East;VALUE=DATE-TIME:20220622T190000
DTSTAMP;VALUE=DATE-TIME:20260420T115649Z
UID:c2b44a2cf844433f80796a6c9970024b@www.goiania.go.leg.br
CONTACT:VEREADOR THIALU GUIOTTI
CREATED;VALUE=DATE-TIME:20220404T215514Z
LAST-MODIFIED;VALUE=DATE-TIME:20220404T215831Z
LOCATION:PLENÁRIO TRAJANO GUIMARÃES
URL:https://www.goiania.go.leg.br/sala-de-imprensa/eventos/sessao-especial
 -em-homenagem-aos-20-anos-da-orquestra-sinfonica-de-jovens-de-goias-e-aos-
 musicos-de-orquestra
END:VEVENT
BEGIN:VTIMEZONE
TZID:Brazil/East
X-LIC-LOCATION:Brazil/East
BEGIN:STANDARD
DTSTART;VALUE=DATE-TIME:20220219T230000
TZNAME:BRT
TZOFFSETFROM:-0200
TZOFFSETTO:-0300
END:STANDARD
END:VTIMEZONE
END:VCALENDAR
