BEGIN:VCALENDAR
VERSION:2.0
PRODID:-//Plone.org//NONSGML plone.app.event//EN
X-WR-TIMEZONE:Brazil/East
BEGIN:VEVENT
SUMMARY:SESSÃO ESPECIAL EM HOMENAGEM AOS 20 ANOS DA ENTIDADE MOVIMENTO E 
 AÇÃO INSTITUTO.
DTSTART;TZID=Brazil/East;VALUE=DATE-TIME:20240919T190000
DTEND;TZID=Brazil/East;VALUE=DATE-TIME:20240919T200000
DTSTAMP;VALUE=DATE-TIME:20260420T202018Z
UID:582483a53ad84fa09119688df6477281@www.goiania.go.leg.br
CONTACT:VEREADOR FABRICIO ROSA
CREATED;VALUE=DATE-TIME:20240819T130758Z
LAST-MODIFIED;VALUE=DATE-TIME:20240819T203028Z
LOCATION:AUDITÓRIO CARLOS EURICO
URL:https://www.goiania.go.leg.br/sala-de-imprensa/eventos/sessao-especial
 -em-homenagem-aos-20-anos-da-entidade-movimento-e-acao-instituto
END:VEVENT
BEGIN:VTIMEZONE
TZID:Brazil/East
X-LIC-LOCATION:Brazil/East
BEGIN:STANDARD
DTSTART;VALUE=DATE-TIME:20240217T230000
TZNAME:BRT
TZOFFSETFROM:-0200
TZOFFSETTO:-0300
END:STANDARD
END:VTIMEZONE
END:VCALENDAR
