BEGIN:VCALENDAR
VERSION:2.0
PRODID:-//Plone.org//NONSGML plone.app.event//EN
X-WR-TIMEZONE:Brazil/East
BEGIN:VEVENT
SUMMARY:SESSÃO ESPECIAL EM HOMENAGEM AOS 19 ANOS DA IGREJA CATEDERAL DA F
 AMÍLIA.
DTSTART;TZID=Brazil/East;VALUE=DATE-TIME:20190824T143000
DTEND;TZID=Brazil/East;VALUE=DATE-TIME:20190824T180000
DTSTAMP;VALUE=DATE-TIME:20260421T125213Z
UID:78dae9a201ef4203a97b9025461a4917@www.goiania.go.leg.br
CONTACT:VEREADORA LÉIA KLEBIA
CREATED;VALUE=DATE-TIME:20190807T141613Z
LAST-MODIFIED;VALUE=DATE-TIME:20190807T141646Z
LOCATION:PLENÁRIO TRAJANO GUIMARÃES
URL:https://www.goiania.go.leg.br/sala-de-imprensa/eventos/sessao-especial
 -em-homenagem-aos-19-anos-da-igreja-catederal-da-familia
END:VEVENT
BEGIN:VTIMEZONE
TZID:Brazil/East
X-LIC-LOCATION:Brazil/East
BEGIN:STANDARD
DTSTART;VALUE=DATE-TIME:20190216T230000
TZNAME:BRT
TZOFFSETFROM:-0200
TZOFFSETTO:-0300
END:STANDARD
END:VTIMEZONE
END:VCALENDAR
