BEGIN:VCALENDAR
VERSION:2.0
PRODID:-//Plone.org//NONSGML plone.app.event//EN
X-WR-TIMEZONE:Brazil/East
BEGIN:VEVENT
SUMMARY:SESSÃO ESPECIAL EM HOMENAGEM AOS 10 ANOS DA MARCHA GOIANO DA CIDA
 DANIA EM DEFESA DA VIDA - BRASIL SEM ABORTO.
DTSTART;TZID=Brazil/East;VALUE=DATE-TIME:20180423T193000
DTEND;TZID=Brazil/East;VALUE=DATE-TIME:20180423T220000
DTSTAMP;VALUE=DATE-TIME:20260423T082813Z
UID:fac2faf21cf74146b39296d7fbdd60cc@www.goiania.go.leg.br
CONTACT:VEREADOR KLEYBE MORAIS
CREATED;VALUE=DATE-TIME:20180219T115647Z
LAST-MODIFIED;VALUE=DATE-TIME:20180219T115653Z
LOCATION:PLENÁRIO TRAJANO GUIMARÃES
URL:https://www.goiania.go.leg.br/sala-de-imprensa/eventos/sessao-especial
 -em-homenagem-aos-10-anos-da-marcha-goiano-da-cidadania-em-defesa-da-vida-
 brasil-sem-aborto
END:VEVENT
BEGIN:VTIMEZONE
TZID:Brazil/East
X-LIC-LOCATION:Brazil/East
BEGIN:STANDARD
DTSTART;VALUE=DATE-TIME:20180217T230000
TZNAME:BRT
TZOFFSETFROM:-0200
TZOFFSETTO:-0300
END:STANDARD
END:VTIMEZONE
END:VCALENDAR
