BEGIN:VCALENDAR
VERSION:2.0
PRODID:-//Plone.org//NONSGML plone.app.event//EN
X-WR-TIMEZONE:Brazil/East
BEGIN:VEVENT
SUMMARY:SESSÃO ESPECIAL EM HOMENAGEM AOS INSTRUTORES DE TIROS.
DTSTART;TZID=Brazil/East;VALUE=DATE-TIME:20220829T090000
DTEND;TZID=Brazil/East;VALUE=DATE-TIME:20220829T120000
DTSTAMP;VALUE=DATE-TIME:20260421T214630Z
UID:198acbc86a1549fbafb4f1558928af2a@www.goiania.go.leg.br
CONTACT:VEREADOR LEANDRO SENA
CREATED;VALUE=DATE-TIME:20220502T145605Z
LAST-MODIFIED;VALUE=DATE-TIME:20220809T124050Z
LOCATION:PLENÁRIO TRAJANO GUIMARÃES
URL:https://www.goiania.go.leg.br/sala-de-imprensa/eventos/sessao-especial
 -em-homenagem-ao-transporte-e-entregadores-de-aplicativos
END:VEVENT
BEGIN:VTIMEZONE
TZID:Brazil/East
X-LIC-LOCATION:Brazil/East
BEGIN:STANDARD
DTSTART;VALUE=DATE-TIME:20220219T230000
TZNAME:BRT
TZOFFSETFROM:-0200
TZOFFSETTO:-0300
END:STANDARD
END:VTIMEZONE
END:VCALENDAR
