BEGIN:VCALENDAR
VERSION:2.0
PRODID:-//Plone.org//NONSGML plone.app.event//EN
X-WR-TIMEZONE:Brazil/East
BEGIN:VEVENT
SUMMARY:SESSÃO ESPECIAL EM HOMENAGEM  AO TEÓLOGO E ENSINADOR CRISTÃO.
DTSTART;TZID=Brazil/East;VALUE=DATE-TIME:20261207T190000
DTEND;TZID=Brazil/East;VALUE=DATE-TIME:20261207T220000
DTSTAMP;VALUE=DATE-TIME:20260419T120357Z
UID:3cc92287cc9b4a51905fdff8d3d06ffa@www.goiania.go.leg.br
CONTACT:VEREADORA LÉIA KLEBIA
CREATED;VALUE=DATE-TIME:20260311T125706Z
LAST-MODIFIED;VALUE=DATE-TIME:20260311T125759Z
LOCATION:PLENÁRIO TRAJANO GUIMARÃES
URL:https://www.goiania.go.leg.br/sala-de-imprensa/eventos/sessao-especial
 -em-homenagem-ao-teologo-e-ensinador-cristao
END:VEVENT
BEGIN:VTIMEZONE
TZID:Brazil/East
X-LIC-LOCATION:Brazil/East
BEGIN:DAYLIGHT
DTSTART;VALUE=DATE-TIME:20261018T010000
TZNAME:BRST
TZOFFSETFROM:-0300
TZOFFSETTO:-0200
END:DAYLIGHT
END:VTIMEZONE
END:VCALENDAR
