BEGIN:VCALENDAR
VERSION:2.0
PRODID:-//Plone.org//NONSGML plone.app.event//EN
X-WR-TIMEZONE:Brazil/East
BEGIN:VEVENT
SUMMARY:SESSÃO ESPECIAL EM HOMENAGEM AO PROJETO "O VALOR DA HONESTIDADE".
DTSTART;TZID=Brazil/East;VALUE=DATE-TIME:20190704T193000
DTEND;TZID=Brazil/East;VALUE=DATE-TIME:20190704T220000
DTSTAMP;VALUE=DATE-TIME:20260420T225155Z
UID:ccf40976333644d4a36313fd7c7151c5@www.goiania.go.leg.br
CONTACT:VEREADOR DR. GIAN
CREATED;VALUE=DATE-TIME:20190624T110030Z
LAST-MODIFIED;VALUE=DATE-TIME:20190624T110040Z
LOCATION:PLENÁRIO TRAJANO GUIMARÃES
URL:https://www.goiania.go.leg.br/sala-de-imprensa/eventos/sessao-especial
 -em-homenagem-ao-projeto-o-valor-da-honestidade
END:VEVENT
BEGIN:VTIMEZONE
TZID:Brazil/East
X-LIC-LOCATION:Brazil/East
BEGIN:STANDARD
DTSTART;VALUE=DATE-TIME:20190216T230000
TZNAME:BRT
TZOFFSETFROM:-0200
TZOFFSETTO:-0300
END:STANDARD
END:VTIMEZONE
END:VCALENDAR
