BEGIN:VCALENDAR
VERSION:2.0
PRODID:-//Plone.org//NONSGML plone.app.event//EN
X-WR-TIMEZONE:Brazil/East
BEGIN:VEVENT
SUMMARY:SESSÃO ESPECIAL EM HOMENAGEM AO PROJETO MÃOS QUE AJUDAM.
DTSTART;TZID=Brazil/East;VALUE=DATE-TIME:20191015T193000
DTEND;TZID=Brazil/East;VALUE=DATE-TIME:20191015T220000
DTSTAMP;VALUE=DATE-TIME:20260420T034254Z
UID:0893f49bb0c74cedb55dfaa88e297113@www.goiania.go.leg.br
CONTACT:VEREADOR WELINGTON PEIXOTO
CREATED;VALUE=DATE-TIME:20190910T181648Z
LAST-MODIFIED;VALUE=DATE-TIME:20190910T181703Z
LOCATION:PLENÁRIO TRAJANO GUIMARÃES
URL:https://www.goiania.go.leg.br/sala-de-imprensa/eventos/sessao-especial
 -em-homenagem-ao-projeto-maos-que-ajudam
END:VEVENT
BEGIN:VTIMEZONE
TZID:Brazil/East
X-LIC-LOCATION:Brazil/East
BEGIN:STANDARD
DTSTART;VALUE=DATE-TIME:20190216T230000
TZNAME:BRT
TZOFFSETFROM:-0200
TZOFFSETTO:-0300
END:STANDARD
END:VTIMEZONE
END:VCALENDAR
