BEGIN:VCALENDAR
VERSION:2.0
PRODID:-//Plone.org//NONSGML plone.app.event//EN
X-WR-TIMEZONE:Brazil/East
BEGIN:VEVENT
SUMMARY:SESSÃO ESPECIAL EM HOMENAGEM  AO PROJETO E AOS INFLUENCIADORES DA
  CASA BRUTA.
DTSTART;TZID=Brazil/East;VALUE=DATE-TIME:20240710T190000
DTEND;TZID=Brazil/East;VALUE=DATE-TIME:20240710T220000
DTSTAMP;VALUE=DATE-TIME:20260421T112240Z
UID:d5697075fec24dfeb3581704ad58b0c2@www.goiania.go.leg.br
CONTACT:VEREADOR LEANDRO SENA
CREATED;VALUE=DATE-TIME:20240618T121333Z
LAST-MODIFIED;VALUE=DATE-TIME:20240618T121353Z
LOCATION:PLENÁRIO TRAJANO GUIMARÃES
URL:https://www.goiania.go.leg.br/sala-de-imprensa/eventos/sessao-especial
 -em-homenagem-ao-projeto-e-aos-influenciadores-da-casa-bruta-1
END:VEVENT
BEGIN:VTIMEZONE
TZID:Brazil/East
X-LIC-LOCATION:Brazil/East
BEGIN:STANDARD
DTSTART;VALUE=DATE-TIME:20240217T230000
TZNAME:BRT
TZOFFSETFROM:-0200
TZOFFSETTO:-0300
END:STANDARD
END:VTIMEZONE
END:VCALENDAR
