BEGIN:VCALENDAR
VERSION:2.0
PRODID:-//Plone.org//NONSGML plone.app.event//EN
X-WR-TIMEZONE:Brazil/East
BEGIN:VEVENT
SUMMARY:SESSÃO ESPECIAL EM HOMENAGEM AO MOVIMENTO FAMILIAR CRISTÃO DE GO
 IÂNIA.
DTSTART;TZID=Brazil/East;VALUE=DATE-TIME:20190604T193000
DTEND;TZID=Brazil/East;VALUE=DATE-TIME:20190604T220000
DTSTAMP;VALUE=DATE-TIME:20260421T043002Z
UID:2a406ee6d0de44548ff2c5c5bc0838cb@www.goiania.go.leg.br
CONTACT:VEREADOR ROBERTO RICARDO
CREATED;VALUE=DATE-TIME:20190531T122154Z
LAST-MODIFIED;VALUE=DATE-TIME:20190531T122236Z
LOCATION:PLENÁRIO TRAJANO GUIMARÃES
URL:https://www.goiania.go.leg.br/sala-de-imprensa/eventos/sessao-especial
 -em-homenagem-ao-movimento-familiar-cristao-de-goiania
END:VEVENT
BEGIN:VTIMEZONE
TZID:Brazil/East
X-LIC-LOCATION:Brazil/East
BEGIN:STANDARD
DTSTART;VALUE=DATE-TIME:20190216T230000
TZNAME:BRT
TZOFFSETFROM:-0200
TZOFFSETTO:-0300
END:STANDARD
END:VTIMEZONE
END:VCALENDAR
