BEGIN:VCALENDAR
VERSION:2.0
PRODID:-//Plone.org//NONSGML plone.app.event//EN
X-WR-TIMEZONE:Brazil/East
BEGIN:VEVENT
SUMMARY:SESSÃO ESPECIAL EM HOMENAGEM  AO MÉDICOS VETERINÁRIOS.
DTSTART;TZID=Brazil/East;VALUE=DATE-TIME:20250909T170000
DTEND;TZID=Brazil/East;VALUE=DATE-TIME:20250909T190000
DTSTAMP;VALUE=DATE-TIME:20260419T174440Z
UID:d9b1b7b880ac48bd96385ac3c388e958@www.goiania.go.leg.br
CONTACT:VEREADOR THIALU GUIOTTI
CREATED;VALUE=DATE-TIME:20250212T133558Z
LAST-MODIFIED;VALUE=DATE-TIME:20250212T133611Z
LOCATION:PLENÁRIO TRAJANO GUIMARÃES
URL:https://www.goiania.go.leg.br/sala-de-imprensa/eventos/sessao-especial
 -em-homenagem-ao-medicos-veterinarios
END:VEVENT
BEGIN:VTIMEZONE
TZID:Brazil/East
X-LIC-LOCATION:Brazil/East
BEGIN:STANDARD
DTSTART;VALUE=DATE-TIME:20250215T230000
TZNAME:BRT
TZOFFSETFROM:-0200
TZOFFSETTO:-0300
END:STANDARD
END:VTIMEZONE
END:VCALENDAR
