BEGIN:VCALENDAR
VERSION:2.0
PRODID:-//Plone.org//NONSGML plone.app.event//EN
X-WR-TIMEZONE:Brazil/East
BEGIN:VEVENT
SUMMARY:SESSÃO ESPECIAL EM HOMENAGEM AO JOVEM EMPREENDEDOR.
DTSTART;TZID=Brazil/East;VALUE=DATE-TIME:20200413T193000
DTEND;TZID=Brazil/East;VALUE=DATE-TIME:20200413T220000
DTSTAMP;VALUE=DATE-TIME:20260420T075354Z
UID:e55b416677cb473892ada842ad936c45@www.goiania.go.leg.br
CONTACT:VEREADOR ANDREY AZEREDO
CREATED;VALUE=DATE-TIME:20200207T123835Z
LAST-MODIFIED;VALUE=DATE-TIME:20200207T123844Z
LOCATION:PLENÁRIO TRAJANO GUIMARÃES
URL:https://www.goiania.go.leg.br/sala-de-imprensa/eventos/sessao-especial
 -em-homenagem-ao-jovem-empreendedor
END:VEVENT
BEGIN:VTIMEZONE
TZID:Brazil/East
X-LIC-LOCATION:Brazil/East
BEGIN:STANDARD
DTSTART;VALUE=DATE-TIME:20200215T230000
TZNAME:BRT
TZOFFSETFROM:-0200
TZOFFSETTO:-0300
END:STANDARD
END:VTIMEZONE
END:VCALENDAR
