BEGIN:VCALENDAR
VERSION:2.0
PRODID:-//Plone.org//NONSGML plone.app.event//EN
X-WR-TIMEZONE:Brazil/East
BEGIN:VEVENT
SUMMARY:SESSÃO ESPECIAL EM HOMENAGEM AO GOIÁS ESPORTE CLUBE\, PELOS SEUS
  75 ANOS DE EXISTÊNCIA.
DTSTART;TZID=Brazil/East;VALUE=DATE-TIME:20180507T090000
DTEND;TZID=Brazil/East;VALUE=DATE-TIME:20180507T120000
DTSTAMP;VALUE=DATE-TIME:20260420T021541Z
UID:a72c2059e66c4e84b17567286cc6f774@www.goiania.go.leg.br
CONTACT:VEREADOR SARGENTO NOVANDIR
CREATED;VALUE=DATE-TIME:20180405T133405Z
LAST-MODIFIED;VALUE=DATE-TIME:20180405T133415Z
LOCATION:PLENÁRIO TRAJANO GUIMARÃES
URL:https://www.goiania.go.leg.br/sala-de-imprensa/eventos/sessao-especial
 -em-homenagem-ao-goias-esporte-clube-pelos-seus-75-anos-de-existencia
END:VEVENT
BEGIN:VTIMEZONE
TZID:Brazil/East
X-LIC-LOCATION:Brazil/East
BEGIN:STANDARD
DTSTART;VALUE=DATE-TIME:20180217T230000
TZNAME:BRT
TZOFFSETFROM:-0200
TZOFFSETTO:-0300
END:STANDARD
END:VTIMEZONE
END:VCALENDAR
